Workbook

Sheet Hoja2
B3: Gerencia General
B4: Subgerencia General
B5: Subgerencia Técnica | K5: Seguimiento y Control
B6: Subgerencia de Operaciones | K6: Planeación y Direccionamiento Estratégico
B7: Secretaria de Asuntos Corporativos | K7: Estructuración de Nuevos Negocios
B8: Dirección de Servicio al Cliente | K8: Servicio al Cliente
B9: Dirección Jurídica | K9: Operación de Servicios Públicos Domiciliarios
B10: Dirección de Control Interno | K10: Gestión de Proyectos
B11: Dirección de Nuevos Negocios | K11: Aseguramiento del Servicio
B12: Dirección de Planeación | K12: Gestión Financiera
B13: Dirección de Estructuración de Proyectos | K13: Gestión Contractual
B14: Dirección de Interventoría | K14: Gestión de Recursos Físicos y TI
B15: Dirección de Asuntos Ambientales | K15: Gestión de Seguridad y Salud en el Trabajo
B16: Dirección de Aseguramiento de la Prestación | K16: Gestión Jurídica
... B18: Dirección de Gestión Contractual | K18: Gestión Humana
B19: Dirección de Finanzas y Presupuesto
B20: Dirección de Contabilidad
B21: Dirección de Gestión Humana y Administrativa
B22: Tesorería

Sheet Intructivo
B2: Matriz Mapa de Riesgos
B4: Teniendo en cuenta que con la expedición del Decreto 1499 de 2017 “Por medio del cual se modifica el Decreto 1083 de 2015, Decreto Único Reglamentario del Sector Función Pública, en lo relacionado con el Sistema de Gestión establecido en el artículo 133 de la Ley 1753 de 2015”, se crea un solo Sistema de Gestión y se alinea con el Sistema de Control Interno, hoy todas las entidades públicas requieren actualizar y/o implementar el Modelo Integrado de Planeación y Gestión MIPG, modelo que incorpora el Modelo Estándar de Control Interno MECI a través de la 7a dimensión del mismo. En este marco general, el proceso de administración del riesgo es un esfuerzo conjunto entre la Alta Dirección y los servidores en todos sus niveles, ejercicio que inicia con la formulación de la política de Administración del Riesgo, la cual incluye los niveles de responsabilidad frente al seguimiento y evaluación, aspectos que deberán definirse acorde con el Esquema de Líneas de Defensa vinculado a la Dimensión 7. Teniendo en cuenta lo anterior y dada la necesidad de las entidades frente a la estructuración de los mapas de riesgos, como herramienta fundamental frente a la gestión del riesgo, el presente formato desarrolla un esquema completo acorde con los contenidos metodológicos de la Guía para la Administración del Riesgo y el diseño de controles V5. El formato cuenta con celdas parametrizadas y permite contar con los respectivos mapas de calor para riesgo inherente y riesgo residual.
B6: Orientaciones Generales
B7: Antes de iniciar con el diligenciamiento de la información en la matriz, se requiere haber avanzado en el análisis del proceso, su objetivo, alcance, actividades clave, considere los lineamientos establecidos en el Paso 2: identificación del riesgo, donde se explica ampliamente las bases para adelanter este análisis. Así mismo, considere en el Paso 3: valoración del riesgo los lineamientos para definir el No. de veces que se hace la actividad con la cual se relaciona el riesgo y su impacto en términos económicos o reputacionales. En este mismo paso se analizan los controles que deben responder a los atributos de eficiencia e informativos. NOTA: Si lo considera pertinente, es posible agregar hojas de trabajo adicionales al presente formato que permitan incluir la traza de estos análisis.
B9: El archivo contiene las siguientes hojas: - Hoja 1 Instructivo - Hoja 2 Mapa Final: Encontrará la totalidad de la estructura para la identificación y valoración de los riesgos por proceso, programa o proyecto, acorde con el nivel de desagregación que la entidad considere necesaria.
C12: Columna | E12: Descripción - Lineamientos para el diligenciamiento
C13: Proceso | E13: Diligencie el nombre del proceso al cual se le identificarán y valorarán los riesgos.
C14: Objetivo | E14: Diligencie el objetivo del proceso.
C15: Alcance | E15: Diligencie el alcance del proceso.
C16: Referencia | E16: Permite definir unl consecutivo de riesgos. Una entidad puede ir en el riesgo 150, pero tener 70 riesgos, lo que permite llevar una traza de los riesgos. Esta información la debe administrar la oficina asesora de planeación o gerencia de riesgos. Cuando un el riesgo salga del mapa no existirá otro riesgo con el mismo número.
C17: Impacto | E17: Analice las consecuencias que puede ocasionar a la organización la materialización del riesgo, redacte de la forma más concreta posible.
C18: Causa Inmediata | E18: Circunstancias bajo las cuales se presenta el riesgo, es la situación más evidente frente al riesgo, redacte de la forma más concreta posible.
C19: Causa Raíz | E19: Causa principal o básica, corresponde a las razones por la cuales se puede presentar el riesgo, redacte de la forma más concreta posible.
C20: Descripción del Riesgo | E20: Consolida o resume los análisis sobre impacto + causa inmediata + causa raíz, permitiendo contar con una redacción clara y concreta del riesgo indentificado. Tenga en cuenta la estructura de alto nivel establecida en al guía, inicia con POSIBILIDAD DE + Impacto para la entidad (Qué) + Causa Inmediata (Cómo) + Causa Raíz (Por qué)
C21: Clasificación del Riesgo | E21: Utilice la lista de despligue que se encuentra parametrizada, le aparecerán las opciones: i)Daños Activos Fisicos, ii)Ejecucion y Administracion de procesos, iii)Fallas Tecnologicas, iv)Fraude Externo, v)Fraude Interno, vi)Relaciones Laborales, vii)Usuarios, productos y practicas organizacionales.
C22: Frecuencia con la cual se lleva a cabo la actividad | E22: Defina el # de veces que se ejecuta la actividad durante el año, (Recuerde la probabilidad e ocurrencia del riesgo se defien como el No. de veces que se pasa por el punto de riesgo en el periodo de 1 año). La matriz automáticamente hará el cálculo para el nivel de probabilidad inherente (Columnas H-I)
C23: Criterios de Impacto | E23: Utilice la lista de despligue que se encuentra parametrizada, le aparecerán las opciones de la tabla de Impacto en la Hoja 6 del presente documento. La matriz automáticamente hará el cálculo para el nivel de impacto inherente (Columnas L-M)
... C37: Estado | E37: Utilice la lista de despligue que se encuentra parametrizada, le aparecerán las opciones: i)Finalizado, ii)En curso, la selección en este caso dependerá de las acciones del plan que se hayan establecido en cada caso.
B40: - Hoja 3 Matriz de Calor Inherente: En esta hoja, en la medida en que ese diligencia el Mapa Final, se verán reflejados los riesgos en su zona correspondiente. Esta hoja no se diligencia se genera de manera automática.
B41: - Hoja 4 Matriz de Calor Residual: En esta hoja, en la medida en que ese diligencia el Mapa Final, se verán reflejados los riesgos en su zona correspondiente. Esta hoja no se diligencia se genera de manera automática.
B42: - Hoja 5 Tabla de probabilidad: Tabla referente para todos los cálculos (no se diligencia)
B43: - Hoja 6 Tabla de Impacto: Tabla referente para todos los cálculos (no se diligencia)
B44: - Hoja 7 Tabla de Valoración de Controles: Tabla referente para todos los cálculos (no se diligencia)

Sheet Mapa final
I1: MAPA DE RIESGOS DE GESTIÓN Y DE SEGURIDAD DE LA INFORMACIÓN | AR1: CODIGO: PDE-F419 | BQ1: Gerencia General
AR2: VERSION:0 | BQ2: Secretaria de Asuntos corporativos
AR3: FECHA: 27/05/2021 | BQ3: Subgerencia General
A4: Fecha de Actualización: 8 de Noviembre 2022
A5: 1 LÍNEA DE DEFENSA A cargo de los gerentes públicos y líderes de los procesos, programas y proyectos de la entidad. Rol principal: diseñar, implementar y monitorear los controles y gestionar de manera directa en el día a día los riesgos de la entidad. Así mismo, orientar el desarrollo e implementación de políticas y procedimientos internos y asegurar que sean compatibles con las metas y objetivos de la entidad y emprender las acciones de mejoramiento para su logro. | AI5: 2 LÍNEA DE DEFENSA A cargo de los servidores que tienen responsabilidades directas en el monitoreo y evaluación de los controles y la gestión del riesgo: Jefes de planeación, supervisores e interventores de contratos o proyectos, coordinadores de otros sistemas de gestión de la entidad, comités de riesgos (donde existan), comités de contratación, entre otros. Rol principal: monitorear la gestión de riesgo y control ejecutada por la primera línea de defensa, complementando su trabajo. | AO5: 3 LÍNEA DE DEFENSA A cargo de la oficina de control interno, auditoría interna o quien haga sus veces. El rol principal: proporcionar un aseguramiento basado en el más alto nivel de independencia y objetividad sobre la efectividad del S.C.I. El alcance de este aseguramiento, a través de la auditoría interna cubre todos los componentes del S.C.I. | BQ5: Subgerencia Técnica
A6: Identificación del riesgo | L6: Análisis del riesgo inherente | S6: Evaluación del riesgo - Valoración de los controles | AB6: Evaluación del riesgo - Nivel del riesgo residual | AI6: Plan de Acción y seguimiento a controles | AO6: SEGUIMIENTO POR PARTE DE CONTROL INTERNO | AR6: VALOR DEL CÓDIGO DE INTEGRIDAD IMPACTADO | BQ6: Subgerencia de Operaciones
A7: Proceso | B7: Objetivo | C7: Alcance | D7: Dirección | E7: Referencia | F7: Impacto | G7: Causa Inmediata | H7: Causa Raíz | I7: Descripción del Riesgo | J7: Clasificación del Riesgo | K7: Frecuencia con la cual se realiza la actividad | L7: Probabilidad Inherente | M7: % | N7: Criterios de impacto | O7: Observación de criterio | P7: Impacto Inherente | Q7: % | R7: Zona de Riesgo Inherente | S7: No. Control | T7: Descripción del Control | U7: Afectación | V7: Atributos | AB7: Probabilidad Residual | AC7: Probabilidad Residual Final | AD7: % | AE7: Impacto Residual Final | AF7: % | AG7: Zona de Riesgo Final | AH7: Tratamiento | AI7: Plan de Acción | AJ7: Responsable | AK7: Fecha Implementación | AL7: Fecha Seguimiento | AM7: Seguimiento | AN7: Estado | AO7: SEGUIMIENTO | BQ7: Dirección de Servicio al Cliente
V8: Tipo | W8: Implementación | X8: Calificación | Y8: Documentación | Z8: Frecuencia | AA8: Evidencia | AO8: INFORME PRIMER SEGUIMIENTO Con corte al 30 de abril. | AP8: INFORME SEGUNDO SEGUIMIENTO Con corte al 31 de agosto. | AQ8: INFORME TERCER SEGUIMIENTO Con corte al 31 de diciembre. | AR8: HONESTIDAD | AS8: RESPETO | AT8: COMPROMISO | AU8: DILIGENCIA | AV8: JUSTICIA | BQ8: Dirección Jurídica
A9: Servicio al Cliente | B9: Gestionar los requerimientos formulados por las partes interesadas, para satisfacer sus necesidades, a través de la implementación de estrategias de atención permanente, mediante canales de comunicación, intervención social y rendición de cuentas, donde se de a conocer el propósito de la entidad en materia de agua potable y saneamiento básico, liderando además, proyectos encaminados a comunidades, con énfasis en el sector educativo en el marco de su bienestar integral. | C9: Desde la planificación y desarrollo para la orientación de las necesidades y requerimientos formulados por las partes interesadas ante EPC, las acciones para el fortalecimiento de canales de comunicación, la intervención social y la rendición de cuentas hasta la evaluación de la percepción de los productos y servicios ofrecidos. | D9: Dirección de Servicio al Cliente | E9: 1 | F9: Económico | G9: Sanción por ente regulador | H9: Respuestas extemporáneas y sin el cumplimiento de requisitos de ley | I9: Posibilidad de afectación reputacional por sanciones por parte del ente regulador debido a respuestas extemporáneas y sin el cumplimiento de requisitos de ley por falta de conocimiento y apropiación del procedimiento y herramienta para la gestión de PQRSD | J9: Usuarios, Productos y Prácticas | K9: 1301 | L9: =IF(K9<=0,"",IF(K9<=2,"Muy Baja",IF(K9<=24,"Baja",IF(K9<=500,"Media",IF(K9<=5000,"Alta","Muy Alta"))))) -> Alta | M9: =IF(L9="","",IF(L9="Muy Baja",0.2,IF(L9="Baja",0.4,IF(L9="Media",0.6,IF(L9="Alta",0.8,IF(L9="Muy Alta",1,)))))) -> 0.8 | N9: El riesgo afecta la imagen de la entidad con algunos usuarios de relevancia frente al logro de los objetivos | O9: =IF(NOT(ISERROR(MATCH(N9,_xlfn.ANCHORARRAY(I9),0))),M9&"Por favor no seleccionar los criterios de impacto",N9) -> El riesgo afecta la imagen de la entidad con algunos usuarios de relevancia frente al logro de los objetivos | P9: =IF(OR(O9='[1]Tabla Impacto'!$C$11,O9='[1]Tabla Impacto'!$D$11),"Leve",IF(OR(O9='[1]Tabla Impacto'!$C$12,O9='[1]Tabla Impacto'!$D$12),"Menor",IF(OR(O9='[1]Tabla Impacto'!$C$13,O9='[1]Tabla Impacto'!$D$13),"Moderado",IF(OR(O9='[1]Tabla Impacto'!$C$14,O9='[1]Tabla Impacto'!$D$14),"Mayor",IF(OR(O9='[1]Tabla Impacto'!$C$15,O9='[1]Tabla Impacto'!$D$15),"Catastrófico",""))))) -> Moderado | Q9: =IF(P9="","",IF(P9="Leve",0.2,IF(P9="Menor",0.4,IF(P9="Moderado",0.6,IF(P9="Mayor",0.8,IF(P9="Catastrófico",1,)))))) -> 0.6 | R9: =IF(OR(AND(L9="Muy Baja",P9="Leve"),AND(L9="Muy Baja",P9="Menor"),AND(L9="Baja",P9="Leve")),"Bajo",IF(OR(AND(L9="Muy baja",P9="Moderado"),AND(L9="Baja",P9="Menor"),AND(L9="Baja",P9="Moderado"),AND(L9="Media",P9="Leve"),AND(L9="Media",P9="Menor"),AND(L9="Media",P9="Moderado"),AND(L9="Alta",P9="Leve"),AND(L9="Alta",P9="Menor")),"Moderado",IF(OR(AND(L9="Muy Baja",P9="Mayor"),AND(L9="Baja",P9="Mayor"),AND(L9="Media",P9="Mayor"),AND(L9="Alta",P9="Moderado"),AND(L9="Alta",P9="Mayor"),AND(L9="Muy Alta",P9="Leve"),AND(L9="Muy Alta",P9="Menor"),AND(L9="Muy Alta",P9="Moderado"),AND(L9="Muy Alta",P9="Mayor")),"Alto",IF(OR(AND(L9="Muy Baja",P9="Catastrófico"),AND(L9="Baja",P9="Catastrófico"),AND(L9="Media",P9="Catastrófico"),AND(L9="Alta",P9="Catastrófico"),AND(L9="Muy Alta",P9="Catastrófico")),"Extremo","")))) -> Alto | S9: 1 | T9: El administrador de PQRSD verifica diariamente la solicitud radicada para dar tramite según competencia de la PQRSD a través del análisis y asignación al responsable de dar la respuesta en lenguaje claro y de fondo. Esta es remitida por el sistema de radicación para dar trámite, de acuerdo al procedimiento control de recepción, elaboración y envió de respuestas a PQRSD | U9: Probabilidad | V9: Preventivo | W9: Manual | X9: =IF(AND(V9="Preventivo",W9="Automático"),"50%",IF(AND(V9="Preventivo",W9="Manual"),"40%",IF(AND(V9="Detectivo",W9="Automático"),"40%",IF(AND(V9="Detectivo",W9="Manual"),"30%",IF(AND(V9="Correctivo",W9="Automático"),"35%",IF(AND(V9="Correctivo",W9="Manual"),"25%","")))))) -> 40% | Y9: Documentado | Z9: Continua | AA9: Con Registro | AB9: =IFERROR(IF(U9="Probabilidad",(M9-(+M9*X9)),IF(U9="Impacto",M9,"")),"") -> 0.48 | AC9: =IFERROR(IF(AB9="","",IF(AB9<=0.2,"Muy Baja",IF(AB9<=0.4,"Baja",IF(AB9<=0.6,"Media",IF(AB9<=0.8,"Alta","Muy Alta"))))),"") -> Media | AD9: =+AB9 -> 0.48 | AE9: =IFERROR(IF(AF9="","",IF(AF9<=0.2,"Leve",IF(AF9<=0.4,"Menor",IF(AF9<=0.6,"Moderado",IF(AF9<=0.8,"Mayor","Catastrófico"))))),"") -> Moderado | AF9: =IFERROR(IF(U9="Impacto",(Q9-(+Q9*X9)),IF(U9="Probabilidad",Q9,"")),"") -> 0.6 | AG9: =IFERROR(IF(OR(AND(AC9="Muy Baja",AE9="Leve"),AND(AC9="Muy Baja",AE9="Menor"),AND(AC9="Baja",AE9="Leve")),"Bajo",IF(OR(AND(AC9="Muy baja",AE9="Moderado"),AND(AC9="Baja",AE9="Menor"),AND(AC9="Baja",AE9="Moderado"),AND(AC9="Media",AE9="Leve"),AND(AC9="Media",AE9="Menor"),AND(AC9="Media",AE9="Moderado"),AND(AC9="Alta",AE9="Leve"),AND(AC9="Alta",AE9="Menor")),"Moderado",IF(OR(AND(AC9="Muy Baja",AE9="Mayor"),AND(AC9="Baja",AE9="Mayor"),AND(AC9="Media",AE9="Mayor"),AND(AC9="Alta",AE9="Moderado"),AND(AC9="Alta",AE9="Mayor"),AND(AC9="Muy Alta",AE9="Leve"),AND(AC9="Muy Alta",AE9="Menor"),AND(AC9="Muy Alta",AE9="Moderado"),AND(AC9="Muy Alta",AE9="Mayor")),"Alto",IF(OR(AND(AC9="Muy Baja",AE9="Catastrófico"),AND(AC9="Baja",AE9="Catastrófico"),AND(AC9="Media",AE9="Catastrófico"),AND(AC9="Alta",AE9="Catastrófico"),AND(AC9="Muy Alta",AE9="Catastrófico")),"Extremo","")))),"") -> Moderado | AH9: Reducir (mitigar) | AI9: Actualizar versión sistema de información para el control de recepción, seguimiento y envió de respuestas de PQRSD | AJ9: Dirección de Gestión Humana y Administrativa Dirección de Servicio al Cliente | AK9: 1/06/2021 al 31/12/2021 | AL9: 31/08/2021 31/12/2021 | AN9: En curso | AR9: x | AT9: x | AU9: x | AV9: x | BQ9: Dirección de Control Interno
S10: 2 | T10: El Director del área valida cada vez que se requiera, la información contenida en el modelo de respuesta de PQRSD dada por el usuario responsable de la respectiva dependencia; una vez validada la información y posibles anexos, da la aprobación y se remite nuevamente al gestor, para respuesta al peticionario con radicado de salida. En caso, de que la respuesta no cumpla con los criterios establecidos, el Director del área realiza solicitud de ajuste del modelo de respuesta. De acuerdo al procedimiento control de recepción, elaboración y envió de respuestas a PQRSD | U10: Probabilidad | V10: Detectivo | W10: Manual | X10: =IF(AND(V10="Preventivo",W10="Automático"),"50%",IF(AND(V10="Preventivo",W10="Manual"),"40%",IF(AND(V10="Detectivo",W10="Automático"),"40%",IF(AND(V10="Detectivo",W10="Manual"),"30%",IF(AND(V10="Correctivo",W10="Automático"),"35%",IF(AND(V10="Correctivo",W10="Manual"),"25%","")))))) -> 30% | Y10: Documentado | Z10: Continua | AA10: Con Registro | AB10: =IFERROR(IF(U10="Probabilidad",(AB9-(+AB9*X10)),IF(U10="Impacto",AB9,"")),"") -> 0.336 | AC10: =IFERROR(IF(AB10="","",IF(AB10<=0.2,"Muy Baja",IF(AB10<=0.4,"Baja",IF(AB10<=0.6,"Media",IF(AB10<=0.8,"Alta","Muy Alta"))))),"") -> Baja | AD10: =+AB10 -> 0.336 | AE10: =IFERROR(IF(AF10="","",IF(AF10<=0.2,"Leve",IF(AF10<=0.4,"Menor",IF(AF10<=0.6,"Moderado",IF(AF10<=0.8,"Mayor","Catastrófico"))))),"") -> Moderado | AF10: =IFERROR(IF(U10="Impacto",(Q9-(+Q9*X10)),IF(U10="Probabilidad",Q9,"")),"") -> 0.6 | AG10: =IFERROR(IF(OR(AND(AC10="Muy Baja",AE10="Leve"),AND(AC10="Muy Baja",AE10="Menor"),AND(AC10="Baja",AE10="Leve")),"Bajo",IF(OR(AND(AC10="Muy baja",AE10="Moderado"),AND(AC10="Baja",AE10="Menor"),AND(AC10="Baja",AE10="Moderado"),AND(AC10="Media",AE10="Leve"),AND(AC10="Media",AE10="Menor"),AND(AC10="Media",AE10="Moderado"),AND(AC10="Alta",AE10="Leve"),AND(AC10="Alta",AE10="Menor")),"Moderado",IF(OR(AND(AC10="Muy Baja",AE10="Mayor"),AND(AC10="Baja",AE10="Mayor"),AND(AC10="Media",AE10="Mayor"),AND(AC10="Alta",AE10="Moderado"),AND(AC10="Alta",AE10="Mayor"),AND(AC10="Muy Alta",AE10="Leve"),AND(AC10="Muy Alta",AE10="Menor"),AND(AC10="Muy Alta",AE10="Moderado"),AND(AC10="Muy Alta",AE10="Mayor")),"Alto",IF(OR(AND(AC10="Muy Baja",AE10="Catastrófico"),AND(AC10="Baja",AE10="Catastrófico"),AND(AC10="Media",AE10="Catastrófico"),AND(AC10="Alta",AE10="Catastrófico"),AND(AC10="Muy Alta",AE10="Catastrófico")),"Extremo","")))),"") -> Moderado | AH10: Reducir (mitigar) | AI10: 1. Campaña de apropiación "Respuesta PQRSD" 2. Capacitación gestor de respuesta PQRSD. 3. Alertas de vencimiento de respuesta PQRSD | AJ10: Dirección de Servicio al Cliente | AK10: 01/05/2021 al 16/12/2021 | AL10: 31/08/2021 31/12/2021 | AN10: En curso | AR10: x | AT10: x | AU10: x | AV10: x | BQ10: Dirección de Planeación
E11: 2 | F11: Reputacional | G11: Pérdida de confianza institucional | H11: Falta de información veraz, pertinente, oportuna | I11: Posibilidad de afectación reputacional por pérdida de confianza institucional debido a la inexactitud y falta de veracidad en la comunicación y publicación de información a los grupos de interés | J11: Usuarios, Productos y Prácticas | K11: 1021 | L11: =IF(K11<=0,"",IF(K11<=2,"Muy Baja",IF(K11<=24,"Baja",IF(K11<=500,"Media",IF(K11<=5000,"Alta","Muy Alta"))))) -> Alta | M11: =IF(L11="","",IF(L11="Muy Baja",0.2,IF(L11="Baja",0.4,IF(L11="Media",0.6,IF(L11="Alta",0.8,IF(L11="Muy Alta",1,)))))) -> 0.8 | N11: ='Tabla Impacto'!D7 -> El riesgo afecta la imagen de de la entidad con efecto publicitario sostenido a nivel de sector administrativo, nivel departamental o municipal | O11: =IF(NOT(ISERROR(MATCH(N11,'Tabla Impacto'!$B$210:$B$219,0))),'Tabla Impacto'!$F$210&"Por favor no seleccionar los criterios de impacto(Afectación Económica o presupuestal y Pérdida Reputacional)",N11) -> El riesgo afecta la imagen de de la entidad con efecto publicitario sostenido a nivel de sector administrativo, nivel departamental o municipal | P11: =IF(OR(O11='Tabla Impacto'!$C$4,O11='Tabla Impacto'!$D$4),"Leve",IF(OR(O11='Tabla Impacto'!$C$5,O11='Tabla Impacto'!$D$5),"Menor",IF(OR(O11='Tabla Impacto'!$C$6,O11='Tabla Impacto'!$D$6),"Moderado",IF(OR(O11='Tabla Impacto'!$C$7,O11='Tabla Impacto'!$D$7),"Mayor",IF(OR(O11='Tabla Impacto'!$C$8,O11='Tabla Impacto'!$D$8),"Catastrófico",""))))) -> Mayor | Q11: =IF(P11="","",IF(P11="Leve",0.2,IF(P11="Menor",0.4,IF(P11="Moderado",0.6,IF(P11="Mayor",0.8,IF(P11="Catastrófico",1,)))))) -> 0.8 | R11: =IF(OR(AND(L11="Muy Baja",P11="Leve"),AND(L11="Muy Baja",P11="Menor"),AND(L11="Baja",P11="Leve")),"Bajo",IF(OR(AND(L11="Muy baja",P11="Moderado"),AND(L11="Baja",P11="Menor"),AND(L11="Baja",P11="Moderado"),AND(L11="Media",P11="Leve"),AND(L11="Media",P11="Menor"),AND(L11="Media",P11="Moderado"),AND(L11="Alta",P11="Leve"),AND(L11="Alta",P11="Menor")),"Moderado",IF(OR(AND(L11="Muy Baja",P11="Mayor"),AND(L11="Baja",P11="Mayor"),AND(L11="Media",P11="Mayor"),AND(L11="Alta",P11="Moderado"),AND(L11="Alta",P11="Mayor"),AND(L11="Muy Alta",P11="Leve"),AND(L11="Muy Alta",P11="Menor"),AND(L11="Muy Alta",P11="Moderado"),AND(L11="Muy Alta",P11="Mayor")),"Alto",IF(OR(AND(L11="Muy Baja",P11="Catastrófico"),AND(L11="Baja",P11="Catastrófico"),AND(L11="Media",P11="Catastrófico"),AND(L11="Alta",P11="Catastrófico"),AND(L11="Muy Alta",P11="Catastrófico")),"Extremo","")))) -> Alto | S11: 1 | T11: El gestor de comunicaciones de la Dirección de Servicio al Cliente verifica cada vez que se requiera, que la solicitud de eventos informativos allegada a la Dirección de Servicio al Cliente, se encuentre debidamente diligenciada y aprobada por el responsable de la información, si la solicitud cumple, es registrada en la hoja de control de eventos informativos y se asigna al equipo de productores multimedia para realización audiovisual. | U11: Probabilidad | V11: Preventivo | W11: Manual | X11: =IF(AND(V11="Preventivo",W11="Automático"),"50%",IF(AND(V11="Preventivo",W11="Manual"),"40%",IF(AND(V11="Detectivo",W11="Automático"),"40%",IF(AND(V11="Detectivo",W11="Manual"),"30%",IF(AND(V11="Correctivo",W11="Automático"),"35%",IF(AND(V11="Correctivo",W11="Manual"),"25%","")))))) -> 40% | Y11: Sin Documentar | Z11: Continua | AA11: Con Registro | AB11: =IFERROR(IF(U11="Probabilidad",(M11-(+M11*X11)),IF(U11="Impacto",M11,"")),"") -> 0.48 | AC11: =IFERROR(IF(AB11="","",IF(AB11<=0.2,"Muy Baja",IF(AB11<=0.4,"Baja",IF(AB11<=0.6,"Media",IF(AB11<=0.8,"Alta","Muy Alta"))))),"") -> Media | AD11: =+AB11 -> 0.48 | AE11: =IFERROR(IF(AF11="","",IF(AF11<=0.2,"Leve",IF(AF11<=0.4,"Menor",IF(AF11<=0.6,"Moderado",IF(AF11<=0.8,"Mayor","Catastrófico"))))),"") -> Mayor | AF11: =IFERROR(IF(U11="Impacto",(Q11-(+Q11*X11)),IF(U11="Probabilidad",Q11,"")),"") -> 0.8 | AG11: =IFERROR(IF(OR(AND(AC11="Muy Baja",AE11="Leve"),AND(AC11="Muy Baja",AE11="Menor"),AND(AC11="Baja",AE11="Leve")),"Bajo",IF(OR(AND(AC11="Muy baja",AE11="Moderado"),AND(AC11="Baja",AE11="Menor"),AND(AC11="Baja",AE11="Moderado"),AND(AC11="Media",AE11="Leve"),AND(AC11="Media",AE11="Menor"),AND(AC11="Media",AE11="Moderado"),AND(AC11="Alta",AE11="Leve"),AND(AC11="Alta",AE11="Menor")),"Moderado",IF(OR(AND(AC11="Muy Baja",AE11="Mayor"),AND(AC11="Baja",AE11="Mayor"),AND(AC11="Media",AE11="Mayor"),AND(AC11="Alta",AE11="Moderado"),AND(AC11="Alta",AE11="Mayor"),AND(AC11="Muy Alta",AE11="Leve"),AND(AC11="Muy Alta",AE11="Menor"),AND(AC11="Muy Alta",AE11="Moderado"),AND(AC11="Muy Alta",AE11="Mayor")),"Alto",IF(OR(AND(AC11="Muy Baja",AE11="Catastrófico"),AND(AC11="Baja",AE11="Catastrófico"),AND(AC11="Media",AE11="Catastrófico"),AND(AC11="Alta",AE11="Catastrófico"),AND(AC11="Muy Alta",AE11="Catastrófico")),"Extremo","")))),"") -> Alto | AH11: Reducir (mitigar) | AI11: 1. Estructurar el procedimiento de realización audiovisual 2. Revisar y en caso que se requiera, ajustar formato solicitud de eventos informativos | AJ11: Dirección de Servicio al Cliente | AK11: 01/06/2021 al 16/12/2021 | AL11: 31/08/2021 31/12/2021 | AN11: En curso | AT11: x | AU11: x | BQ11: Dirección de Nuevos Negocios
S12: 2 | T12: El líder de comunicaciones valida y aprueba cada vez que se requiera, la pieza elaborada por el equipo de productores multimedia de acuerdo a los lineamientos establecidos en el Manual de Imagen, si la pieza grafica no cumple, se devuelve al profesional para realizar ajustes. Posteriormente se envía para aprobación del solicitante inicial | U12: Probabilidad | V12: Preventivo | W12: Manual | X12: =IF(AND(V12="Preventivo",W12="Automático"),"50%",IF(AND(V12="Preventivo",W12="Manual"),"40%",IF(AND(V12="Detectivo",W12="Automático"),"40%",IF(AND(V12="Detectivo",W12="Manual"),"30%",IF(AND(V12="Correctivo",W12="Automático"),"35%",IF(AND(V12="Correctivo",W12="Manual"),"25%","")))))) -> 40% | Y12: Documentado | Z12: Continua | AA12: Con Registro | AB12: =IFERROR(IF(U12="Probabilidad",(AB11-(+AB11*X12)),IF(U12="Impacto",AB11,"")),"") -> 0.288 | AC12: =IFERROR(IF(AB12="","",IF(AB12<=0.2,"Muy Baja",IF(AB12<=0.4,"Baja",IF(AB12<=0.6,"Media",IF(AB12<=0.8,"Alta","Muy Alta"))))),"") -> Baja | AD12: =AB12 -> 0.288 | AE12: =IFERROR(IF(AF12="","",IF(AF12<=0.2,"Leve",IF(AF12<=0.4,"Menor",IF(AF12<=0.6,"Moderado",IF(AF12<=0.8,"Mayor","Catastrófico"))))),"") -> Mayor | AF12: =IFERROR(IF(U12="Impacto",(Q11-(+Q11*X12)),IF(U12="Probabilidad",Q11,"")),"") -> 0.8 | AG12: =IFERROR(IF(OR(AND(AC12="Muy Baja",AE12="Leve"),AND(AC12="Muy Baja",AE12="Menor"),AND(AC12="Baja",AE12="Leve")),"Bajo",IF(OR(AND(AC12="Muy baja",AE12="Moderado"),AND(AC12="Baja",AE12="Menor"),AND(AC12="Baja",AE12="Moderado"),AND(AC12="Media",AE12="Leve"),AND(AC12="Media",AE12="Menor"),AND(AC12="Media",AE12="Moderado"),AND(AC12="Alta",AE12="Leve"),AND(AC12="Alta",AE12="Menor")),"Moderado",IF(OR(AND(AC12="Muy Baja",AE12="Mayor"),AND(AC12="Baja",AE12="Mayor"),AND(AC12="Media",AE12="Mayor"),AND(AC12="Alta",AE12="Moderado"),AND(AC12="Alta",AE12="Mayor"),AND(AC12="Muy Alta",AE12="Leve"),AND(AC12="Muy Alta",AE12="Menor"),AND(AC12="Muy Alta",AE12="Moderado"),AND(AC12="Muy Alta",AE12="Mayor")),"Alto",IF(OR(AND(AC12="Muy Baja",AE12="Catastrófico"),AND(AC12="Baja",AE12="Catastrófico"),AND(AC12="Media",AE12="Catastrófico"),AND(AC12="Alta",AE12="Catastrófico"),AND(AC12="Muy Alta",AE12="Catastrófico")),"Extremo","")))),"") -> Alto | AH12: Reducir (mitigar) | AI12: 1. Revisar y en caso que se requiera, ajustar el Manual de Imagen | AJ12: Dirección de Servicio al Cliente | AK12: 01/06/2021 al 16/12/2021 | AL12: 31/08/2021 31/12/2021 | AN12: En curso | AR12: x | AT12: x
S13: 3 | T13: El Director del área valida cada vez que se requiera, la pieza gráfica producida por la Dirección de Servicio al cliente y una vez recibida la aprobación por parte del solicitante, el Director de Servicio al Cliente aprueba y remite a la líder de comunicaciones para publicación en los medios oficiales de comunicación. La líder de comunicaciones registra los enlaces en la hoja de control de eventos informativos | U13: Probabilidad | V13: Preventivo | W13: Manual | X13: =IF(AND(V13="Preventivo",W13="Automático"),"50%",IF(AND(V13="Preventivo",W13="Manual"),"40%",IF(AND(V13="Detectivo",W13="Automático"),"40%",IF(AND(V13="Detectivo",W13="Manual"),"30%",IF(AND(V13="Correctivo",W13="Automático"),"35%",IF(AND(V13="Correctivo",W13="Manual"),"25%","")))))) -> 40% | Y13: Sin Documentar | Z13: Continua | AA13: Con Registro | AB13: =IFERROR(IF(U13="Probabilidad",(AB12-(+AB12*X13)),IF(U13="Impacto",AB12,"")),"") -> 0.1728 | AC13: =IFERROR(IF(AB13="","",IF(AB13<=0.2,"Muy Baja",IF(AB13<=0.4,"Baja",IF(AB13<=0.6,"Media",IF(AB13<=0.8,"Alta","Muy Alta"))))),"") -> Muy Baja | AD13: =+AB13 -> 0.1728 | AE13: =IFERROR(IF(AF13="","",IF(AF13<=0.2,"Leve",IF(AF13<=0.4,"Menor",IF(AF13<=0.6,"Moderado",IF(AF13<=0.8,"Mayor","Catastrófico"))))),"") -> Mayor | AF13: =IFERROR(IF(U13="Impacto",(Q11-(+Q11*X13)),IF(U13="Probabilidad",Q11,"")),"") -> 0.8 | AG13: =IFERROR(IF(OR(AND(AC13="Muy Baja",AE13="Leve"),AND(AC13="Muy Baja",AE13="Menor"),AND(AC13="Baja",AE13="Leve")),"Bajo",IF(OR(AND(AC13="Muy baja",AE13="Moderado"),AND(AC13="Baja",AE13="Menor"),AND(AC13="Baja",AE13="Moderado"),AND(AC13="Media",AE13="Leve"),AND(AC13="Media",AE13="Menor"),AND(AC13="Media",AE13="Moderado"),AND(AC13="Alta",AE13="Leve"),AND(AC13="Alta",AE13="Menor")),"Moderado",IF(OR(AND(AC13="Muy Baja",AE13="Mayor"),AND(AC13="Baja",AE13="Mayor"),AND(AC13="Media",AE13="Mayor"),AND(AC13="Alta",AE13="Moderado"),AND(AC13="Alta",AE13="Mayor"),AND(AC13="Muy Alta",AE13="Leve"),AND(AC13="Muy Alta",AE13="Menor"),AND(AC13="Muy Alta",AE13="Moderado"),AND(AC13="Muy Alta",AE13="Mayor")),"Alto",IF(OR(AND(AC13="Muy Baja",AE13="Catastrófico"),AND(AC13="Baja",AE13="Catastrófico"),AND(AC13="Media",AE13="Catastrófico"),AND(AC13="Alta",AE13="Catastrófico"),AND(AC13="Muy Alta",AE13="Catastrófico")),"Extremo","")))),"") -> Alto | AH13: Reducir (mitigar) | AI13: 1. Estructurar hoja de control de eventos informativos y realización audiovisual | AJ13: Dirección de Servicio al Cliente | AK13: 01/06/2021 al 16/12/2021 | AL13: 31/08/2021 31/12/2021 | AN13: En curso | AR13: x | AT13: x | BQ13: Dirección de Gestión Contractual
E14: 3 | F14: Reputacional | G14: Negación por parte de la comunidad al desarrollo de una obra | H14: Inexistencia de acompañamiento social en la estructuración, diseño y ejecución de los proyectos | I14: Posibilidad de afectación reputacional por negación de la comunidad al desarrollo de una obra debido a la inexistencia de acompañamiento social a la estructuración, diseño y ejecución de los proyectos | J14: Ejecución y Administración de Procesos | K14: 250 | L14: =IF(K14<=0,"",IF(K14<=2,"Muy Baja",IF(K14<=24,"Baja",IF(K14<=500,"Media",IF(K14<=5000,"Alta","Muy Alta"))))) -> Media | M14: =IF(L14="","",IF(L14="Muy Baja",0.2,IF(L14="Baja",0.4,IF(L14="Media",0.6,IF(L14="Alta",0.8,IF(L14="Muy Alta",1,)))))) -> 0.6 | N14: ='Tabla Impacto'!D7 -> El riesgo afecta la imagen de de la entidad con efecto publicitario sostenido a nivel de sector administrativo, nivel departamental o municipal | O14: =IF(NOT(ISERROR(MATCH(N14,'Tabla Impacto'!$B$210:$B$219,0))),'Tabla Impacto'!$F$210&"Por favor no seleccionar los criterios de impacto(Afectación Económica o presupuestal y Pérdida Reputacional)",N14) -> El riesgo afecta la imagen de de la entidad con efecto publicitario sostenido a nivel de sector administrativo, nivel departamental o municipal | P14: =IF(OR(O14='Tabla Impacto'!$C$4,O14='Tabla Impacto'!$D$4),"Leve",IF(OR(O14='Tabla Impacto'!$C$5,O14='Tabla Impacto'!$D$5),"Menor",IF(OR(O14='Tabla Impacto'!$C$6,O14='Tabla Impacto'!$D$6),"Moderado",IF(OR(O14='Tabla Impacto'!$C$7,O14='Tabla Impacto'!$D$7),"Mayor",IF(OR(O14='Tabla Impacto'!$C$8,O14='Tabla Impacto'!$D$8),"Catastrófico",""))))) -> Mayor | Q14: =IF(P14="","",IF(P14="Leve",0.2,IF(P14="Menor",0.4,IF(P14="Moderado",0.6,IF(P14="Mayor",0.8,IF(P14="Catastrófico",1,)))))) -> 0.8 | R14: =IF(OR(AND(L14="Muy Baja",P14="Leve"),AND(L14="Muy Baja",P14="Menor"),AND(L14="Baja",P14="Leve")),"Bajo",IF(OR(AND(L14="Muy baja",P14="Moderado"),AND(L14="Baja",P14="Menor"),AND(L14="Baja",P14="Moderado"),AND(L14="Media",P14="Leve"),AND(L14="Media",P14="Menor"),AND(L14="Media",P14="Moderado"),AND(L14="Alta",P14="Leve"),AND(L14="Alta",P14="Menor")),"Moderado",IF(OR(AND(L14="Muy Baja",P14="Mayor"),AND(L14="Baja",P14="Mayor"),AND(L14="Media",P14="Mayor"),AND(L14="Alta",P14="Moderado"),AND(L14="Alta",P14="Mayor"),AND(L14="Muy Alta",P14="Leve"),AND(L14="Muy Alta",P14="Menor"),AND(L14="Muy Alta",P14="Moderado"),AND(L14="Muy Alta",P14="Mayor")),"Alto",IF(OR(AND(L14="Muy Baja",P14="Catastrófico"),AND(L14="Baja",P14="Catastrófico"),AND(L14="Media",P14="Catastrófico"),AND(L14="Alta",P14="Catastrófico"),AND(L14="Muy Alta",P14="Catastrófico")),"Extremo","")))) -> Alto | S14: 1 | T14: La trabajadora social de la Dirección de Servicio al cliente verifica en cada proyecto de preinversión el Análisis del AIU (Administración Imprevistos y Utilidades) presentado por la consultoría y remitido por la Dirección de operaciones y proyectos especiales, si dentro de los gastos generales de mano de obra y gastos de oficina, incluye la vinculación de un profesional social y la dedicación de tiempo de acuerdo a la Guía de intervención social. En caso que no se cuente con la presupuestación de un profesional social, se solicita a través de comunicación interna la vinculación respectiva. | U14: Probabilidad | V14: Preventivo | W14: Manual | X14: =IF(AND(V14="Preventivo",W14="Automático"),"50%",IF(AND(V14="Preventivo",W14="Manual"),"40%",IF(AND(V14="Detectivo",W14="Automático"),"40%",IF(AND(V14="Detectivo",W14="Manual"),"30%",IF(AND(V14="Correctivo",W14="Automático"),"35%",IF(AND(V14="Correctivo",W14="Manual"),"25%","")))))) -> 40% | Y14: Documentado | Z14: Continua | AA14: Sin Registro | AB14: =IFERROR(IF(U14="Probabilidad",(M14-(+M14*X14)),IF(U14="Impacto",M14,"")),"") -> 0.36 | AC14: =IFERROR(IF(AB14="","",IF(AB14<=0.2,"Muy Baja",IF(AB14<=0.4,"Baja",IF(AB14<=0.6,"Media",IF(AB14<=0.8,"Alta","Muy Alta"))))),"") -> Baja | AD14: =+AB14 -> 0.36 | AE14: =IFERROR(IF(AF14="","",IF(AF14<=0.2,"Leve",IF(AF14<=0.4,"Menor",IF(AF14<=0.6,"Moderado",IF(AF14<=0.8,"Mayor","Catastrófico"))))),"") -> Mayor | AF14: =IFERROR(IF(U14="Impacto",(Q14-(+Q14*X14)),IF(U14="Probabilidad",Q14,"")),"") -> 0.8 | AG14: =IFERROR(IF(OR(AND(AC14="Muy Baja",AE14="Leve"),AND(AC14="Muy Baja",AE14="Menor"),AND(AC14="Baja",AE14="Leve")),"Bajo",IF(OR(AND(AC14="Muy baja",AE14="Moderado"),AND(AC14="Baja",AE14="Menor"),AND(AC14="Baja",AE14="Moderado"),AND(AC14="Media",AE14="Leve"),AND(AC14="Media",AE14="Menor"),AND(AC14="Media",AE14="Moderado"),AND(AC14="Alta",AE14="Leve"),AND(AC14="Alta",AE14="Menor")),"Moderado",IF(OR(AND(AC14="Muy Baja",AE14="Mayor"),AND(AC14="Baja",AE14="Mayor"),AND(AC14="Media",AE14="Mayor"),AND(AC14="Alta",AE14="Moderado"),AND(AC14="Alta",AE14="Mayor"),AND(AC14="Muy Alta",AE14="Leve"),AND(AC14="Muy Alta",AE14="Menor"),AND(AC14="Muy Alta",AE14="Moderado"),AND(AC14="Muy Alta",AE14="Mayor")),"Alto",IF(OR(AND(AC14="Muy Baja",AE14="Catastrófico"),AND(AC14="Baja",AE14="Catastrófico"),AND(AC14="Media",AE14="Catastrófico"),AND(AC14="Alta",AE14="Catastrófico"),AND(AC14="Muy Alta",AE14="Catastrófico")),"Extremo","")))),"") -> Alto | AH14: Reducir (mitigar) | AI14: 1. Estructurar propuesta para el ajuste de Procedimiento de gestión de proyectos y formato GP-F091 para incluir visto bueno del componente social a los proyectos | AJ14: Dirección de Servicio al Cliente | AK14: 01/06/2021 al 30/09/2021 | AL14: 31/08/2021 31/12/2021 | AN14: En curso | AU14: x | BQ14: Dirección de Finanzas y Presupuesto
S15: 2 | T15: La trabajadora social de la Dirección de Servicio al cliente verifica en la etapa de inversión de cada proyecto, la vinculación de profesionales sociales del área contratista e interventoría, de acuerdo con la revisión del contrato o convenio establecido para la ejecución de la obra y en caso de no evidenciar el profesional social, notifica a la Dirección de Interventoría y Subgerencia Técnica la inexistencia de acompañamiento social en la obra. | U15: Probabilidad | V15: Detectivo | W15: Manual | X15: =IF(AND(V15="Preventivo",W15="Automático"),"50%",IF(AND(V15="Preventivo",W15="Manual"),"40%",IF(AND(V15="Detectivo",W15="Automático"),"40%",IF(AND(V15="Detectivo",W15="Manual"),"30%",IF(AND(V15="Correctivo",W15="Automático"),"35%",IF(AND(V15="Correctivo",W15="Manual"),"25%","")))))) -> 30% | Y15: Sin Documentar | Z15: Continua | AA15: Sin Registro | AB15: =IFERROR(IF(U15="Probabilidad",(AB14-(+AB14*X15)),IF(U15="Impacto",AB14,"")),"") -> 0.252 | AC15: =IFERROR(IF(AB15="","",IF(AB15<=0.2,"Muy Baja",IF(AB15<=0.4,"Baja",IF(AB15<=0.6,"Media",IF(AB15<=0.8,"Alta","Muy Alta"))))),"") -> Baja | AD15: =+AB15 -> 0.252 | AE15: =IFERROR(IF(AF15="","",IF(AF15<=0.2,"Leve",IF(AF15<=0.4,"Menor",IF(AF15<=0.6,"Moderado",IF(AF15<=0.8,"Mayor","Catastrófico"))))),"") -> Mayor | AF15: =IFERROR(IF(U15="Impacto",(Q14-(+Q14*X15)),IF(U15="Probabilidad",Q14,"")),"") -> 0.8 | AG15: =IFERROR(IF(OR(AND(AC15="Muy Baja",AE15="Leve"),AND(AC15="Muy Baja",AE15="Menor"),AND(AC15="Baja",AE15="Leve")),"Bajo",IF(OR(AND(AC15="Muy baja",AE15="Moderado"),AND(AC15="Baja",AE15="Menor"),AND(AC15="Baja",AE15="Moderado"),AND(AC15="Media",AE15="Leve"),AND(AC15="Media",AE15="Menor"),AND(AC15="Media",AE15="Moderado"),AND(AC15="Alta",AE15="Leve"),AND(AC15="Alta",AE15="Menor")),"Moderado",IF(OR(AND(AC15="Muy Baja",AE15="Mayor"),AND(AC15="Baja",AE15="Mayor"),AND(AC15="Media",AE15="Mayor"),AND(AC15="Alta",AE15="Moderado"),AND(AC15="Alta",AE15="Mayor"),AND(AC15="Muy Alta",AE15="Leve"),AND(AC15="Muy Alta",AE15="Menor"),AND(AC15="Muy Alta",AE15="Moderado"),AND(AC15="Muy Alta",AE15="Mayor")),"Alto",IF(OR(AND(AC15="Muy Baja",AE15="Catastrófico"),AND(AC15="Baja",AE15="Catastrófico"),AND(AC15="Media",AE15="Catastrófico"),AND(AC15="Alta",AE15="Catastrófico"),AND(AC15="Muy Alta",AE15="Catastrófico")),"Extremo","")))),"") -> Alto | AH15: Reducir (mitigar) | AI15: 1. Estructurar propuesta para el ajuste de Procedimiento de gestión contractual y formato GC-F181 para la inclusión de profesionales sociales en la solicitud de contratación y estudios previos para la adecuada implementación de la Guía de Intervención Social 2. Diseñar una estrategia comunicativa en la que se explique la importancia de la vinculación de profesionales sociales en las obras que se adelantan para el sector de agua potable y saneamiento básico | AJ15: Dirección de Servicio al Cliente | AK15: 01/06/2021 al 30/09/2021 | AL15: 31/08/2021 31/12/2021 | AN15: En curso | AT15: x | AU15: x | BQ15: Dirección de Contabilidad
A16: Gestión de proyectos | B16: Garantizar la gestión integral y eficiente de proyectos de agua potable y saneamiento básico para satisfacer nuestras partes interesadas. | C16: Inicia con la validación y priorización de necesidades y finaliza con la entrega a satisfacción de los proyectos diseñados y ejecutados. | D16: Dirección de Asuntos Ambientales | E16: 1 | F16: Reputacional | G16: Aplicación de investigación o sanción por parte del ente regulador | H16: Debido a la entrega y/o aprobación inoportuno de los instrumentos de planificación ambiental | I16: Posibilidad de afectación reputacional y/o económica por investigaciones o sanciones por parte del ente regulador, debido a la entrega y/o aprobación inoportuna de los instrumentos de planificación ambiental o que los mismos no sean aprobados por la Autoridad Ambiental Competente. | J16: Ejecución y Administración de Procesos | K16: 15 | L16: =IF(K16<=0,"",IF(K16<=2,"Muy Baja",IF(K16<=24,"Baja",IF(K16<=500,"Media",IF(K16<=5000,"Alta","Muy Alta"))))) -> Baja | M16: =IF(L16="","",IF(L16="Muy Baja",0.2,IF(L16="Baja",0.4,IF(L16="Media",0.6,IF(L16="Alta",0.8,IF(L16="Muy Alta",1,)))))) -> 0.4 | N16: ='Tabla Impacto'!D7 -> El riesgo afecta la imagen de de la entidad con efecto publicitario sostenido a nivel de sector administrativo, nivel departamental o municipal | O16: =IF(NOT(ISERROR(MATCH(N16,'Tabla Impacto'!$B$210:$B$219,0))),'Tabla Impacto'!$F$210&"Por favor no seleccionar los criterios de impacto(Afectación Económica o presupuestal y Pérdida Reputacional)",N16) -> El riesgo afecta la imagen de de la entidad con efecto publicitario sostenido a nivel de sector administrativo, nivel departamental o municipal | P16: =IF(OR(O16='Tabla Impacto'!$C$4,O16='Tabla Impacto'!$D$4),"Leve",IF(OR(O16='Tabla Impacto'!$C$5,O16='Tabla Impacto'!$D$5),"Menor",IF(OR(O16='Tabla Impacto'!$C$6,O16='Tabla Impacto'!$D$6),"Moderado",IF(OR(O16='Tabla Impacto'!$C$7,O16='Tabla Impacto'!$D$7),"Mayor",IF(OR(O16='Tabla Impacto'!$C$8,O16='Tabla Impacto'!$D$8),"Catastrófico",""))))) -> Mayor | Q16: =IF(P16="","",IF(P16="Leve",0.2,IF(P16="Menor",0.4,IF(P16="Moderado",0.6,IF(P16="Mayor",0.8,IF(P16="Catastrófico",1,)))))) -> 0.8 | R16: =IF(OR(AND(L16="Muy Baja",P16="Leve"),AND(L16="Muy Baja",P16="Menor"),AND(L16="Baja",P16="Leve")),"Bajo",IF(OR(AND(L16="Muy baja",P16="Moderado"),AND(L16="Baja",P16="Menor"),AND(L16="Baja",P16="Moderado"),AND(L16="Media",P16="Leve"),AND(L16="Media",P16="Menor"),AND(L16="Media",P16="Moderado"),AND(L16="Alta",P16="Leve"),AND(L16="Alta",P16="Menor")),"Moderado",IF(OR(AND(L16="Muy Baja",P16="Mayor"),AND(L16="Baja",P16="Mayor"),AND(L16="Media",P16="Mayor"),AND(L16="Alta",P16="Moderado"),AND(L16="Alta",P16="Mayor"),AND(L16="Muy Alta",P16="Leve"),AND(L16="Muy Alta",P16="Menor"),AND(L16="Muy Alta",P16="Moderado"),AND(L16="Muy Alta",P16="Mayor")),"Alto",IF(OR(AND(L16="Muy Baja",P16="Catastrófico"),AND(L16="Baja",P16="Catastrófico"),AND(L16="Media",P16="Catastrófico"),AND(L16="Alta",P16="Catastrófico"),AND(L16="Muy Alta",P16="Catastrófico")),"Extremo","")))) -> Alto | S16: 1 | T16: El profesional de asuntos ambientales programa y ejecuta reuniones con el municipio y realiza visitas técnicas para la adecuada planeación del proyecto | U16: =IF(OR(V16="Preventivo",V16="Detectivo"),"Probabilidad",IF(V16="Correctivo","Impacto","")) -> Probabilidad | V16: Preventivo | W16: Manual | X16: =IF(AND(V16="Preventivo",W16="Automático"),"50%",IF(AND(V16="Preventivo",W16="Manual"),"40%",IF(AND(V16="Detectivo",W16="Automático"),"40%",IF(AND(V16="Detectivo",W16="Manual"),"30%",IF(AND(V16="Correctivo",W16="Automático"),"35%",IF(AND(V16="Correctivo",W16="Manual"),"25%","")))))) -> 40% | Y16: Documentado | Z16: Aleatoria | AA16: Con Registro | AB16: =IFERROR(IF(U16="Probabilidad",(M16-(+M16*X16)),IF(U16="Impacto",M16,"")),"") -> 0.24 | AC16: =IFERROR(IF(AB16="","",IF(AB16<=0.2,"Muy Baja",IF(AB16<=0.4,"Baja",IF(AB16<=0.6,"Media",IF(AB16<=0.8,"Alta","Muy Alta"))))),"") -> Baja | AD16: =+AB16 -> 0.24 | AE16: =IFERROR(IF(AF16="","",IF(AF16<=0.2,"Leve",IF(AF16<=0.4,"Menor",IF(AF16<=0.6,"Moderado",IF(AF16<=0.8,"Mayor","Catastrófico"))))),"") -> Mayor | AF16: =IFERROR(IF(U16="Impacto",(Q16-(+Q16*X16)),IF(U16="Probabilidad",Q16,"")),"") -> 0.8 | AG16: =IFERROR(IF(OR(AND(AC16="Muy Baja",AE16="Leve"),AND(AC16="Muy Baja",AE16="Menor"),AND(AC16="Baja",AE16="Leve")),"Bajo",IF(OR(AND(AC16="Muy baja",AE16="Moderado"),AND(AC16="Baja",AE16="Menor"),AND(AC16="Baja",AE16="Moderado"),AND(AC16="Media",AE16="Leve"),AND(AC16="Media",AE16="Menor"),AND(AC16="Media",AE16="Moderado"),AND(AC16="Alta",AE16="Leve"),AND(AC16="Alta",AE16="Menor")),"Moderado",IF(OR(AND(AC16="Muy Baja",AE16="Mayor"),AND(AC16="Baja",AE16="Mayor"),AND(AC16="Media",AE16="Mayor"),AND(AC16="Alta",AE16="Moderado"),AND(AC16="Alta",AE16="Mayor"),AND(AC16="Muy Alta",AE16="Leve"),AND(AC16="Muy Alta",AE16="Menor"),AND(AC16="Muy Alta",AE16="Moderado"),AND(AC16="Muy Alta",AE16="Mayor")),"Alto",IF(OR(AND(AC16="Muy Baja",AE16="Catastrófico"),AND(AC16="Baja",AE16="Catastrófico"),AND(AC16="Media",AE16="Catastrófico"),AND(AC16="Alta",AE16="Catastrófico"),AND(AC16="Muy Alta",AE16="Catastrófico")),"Extremo","")))),"") -> Alto | AH16: Reducir (mitigar) | AI16: Cronograma | AJ16: Dirección de Asuntos Ambientales | AK16: Enero 2021 - Diciembre 2021 | AL16: Mensualmente | AN16: En curso | AT16: X | AU16: X
S17: 2 | T17: El profesional de asuntos ambientales en conjunto con la interventoría realiza el seguimiento a la ejecución de los instrumentos ambientales con el fin de obtener un producto conforme a las especificaciones | U17: =IF(OR(V17="Preventivo",V17="Detectivo"),"Probabilidad",IF(V17="Correctivo","Impacto","")) -> Probabilidad | V17: Detectivo | W17: Manual | X17: =IF(AND(V17="Preventivo",W17="Automático"),"50%",IF(AND(V17="Preventivo",W17="Manual"),"40%",IF(AND(V17="Detectivo",W17="Automático"),"40%",IF(AND(V17="Detectivo",W17="Manual"),"30%",IF(AND(V17="Correctivo",W17="Automático"),"35%",IF(AND(V17="Correctivo",W17="Manual"),"25%","")))))) -> 30% | Y17: Documentado | Z17: Continua | AA17: Con Registro | AB17: =IFERROR(IF(U17="Probabilidad",(AB16-(+AB16*X17)),IF(U17="Impacto",M16,"")),"") -> 0.168 | AC17: =IFERROR(IF(AB17="","",IF(AB17<=0.2,"Muy Baja",IF(AB17<=0.4,"Baja",IF(AB17<=0.6,"Media",IF(AB17<=0.8,"Alta","Muy Alta"))))),"") -> Muy Baja | AD17: =+AB17 -> 0.168 | AE17: =IFERROR(IF(AF17="","",IF(AF17<=0.2,"Leve",IF(AF17<=0.4,"Menor",IF(AF17<=0.6,"Moderado",IF(AF17<=0.8,"Mayor","Catastrófico"))))),"") -> Mayor | AF17: =IFERROR(IF(U17="Impacto",(Q16-(+Q16*X17)),IF(U17="Probabilidad",Q16,"")),"") -> 0.8 | AG17: =IFERROR(IF(OR(AND(AC17="Muy Baja",AE17="Leve"),AND(AC17="Muy Baja",AE17="Menor"),AND(AC17="Baja",AE17="Leve")),"Bajo",IF(OR(AND(AC17="Muy baja",AE17="Moderado"),AND(AC17="Baja",AE17="Menor"),AND(AC17="Baja",AE17="Moderado"),AND(AC17="Media",AE17="Leve"),AND(AC17="Media",AE17="Menor"),AND(AC17="Media",AE17="Moderado"),AND(AC17="Alta",AE17="Leve"),AND(AC17="Alta",AE17="Menor")),"Moderado",IF(OR(AND(AC17="Muy Baja",AE17="Mayor"),AND(AC17="Baja",AE17="Mayor"),AND(AC17="Media",AE17="Mayor"),AND(AC17="Alta",AE17="Moderado"),AND(AC17="Alta",AE17="Mayor"),AND(AC17="Muy Alta",AE17="Leve"),AND(AC17="Muy Alta",AE17="Menor"),AND(AC17="Muy Alta",AE17="Moderado"),AND(AC17="Muy Alta",AE17="Mayor")),"Alto",IF(OR(AND(AC17="Muy Baja",AE17="Catastrófico"),AND(AC17="Baja",AE17="Catastrófico"),AND(AC17="Media",AE17="Catastrófico"),AND(AC17="Alta",AE17="Catastrófico"),AND(AC17="Muy Alta",AE17="Catastrófico")),"Extremo","")))),"") -> Alto | AH17: Reducir (mitigar) | AJ17: Dirección de Asuntos Ambientales | AK17: Enero 2021 - Diciembre 2021 | AL17: Mensualmente | AN17: En curso | AT17: X | AU17: X
S18: 3 | T18: El profesional de asuntos ambientales, la interventoría y el municipio ejecutan reuniones con la autoridad ambiental competente para realizar las debidas subsanaciones a que haya a lugar y obtener la aprobación del producto | U18: Impacto | V18: Correctivo | W18: Manual | X18: =IF(AND(V18="Preventivo",W18="Automático"),"50%",IF(AND(V18="Preventivo",W18="Manual"),"40%",IF(AND(V18="Detectivo",W18="Automático"),"40%",IF(AND(V18="Detectivo",W18="Manual"),"30%",IF(AND(V18="Correctivo",W18="Automático"),"35%",IF(AND(V18="Correctivo",W18="Manual"),"25%","")))))) -> 25% | Y18: Documentado | Z18: Aleatoria | AA18: Con Registro | AB18: =IFERROR(IF(U18="Probabilidad",(AB17-(+AB17*X18)),IF(U18="Impacto",AB17,"")),"") -> 0.168 | AC18: =IFERROR(IF(AB18="","",IF(AB18<=0.2,"Muy Baja",IF(AB18<=0.4,"Baja",IF(AB18<=0.6,"Media",IF(AB18<=0.8,"Alta","Muy Alta"))))),"") -> Muy Baja | AD18: =+AB18 -> 0.168 | AE18: =IFERROR(IF(AF18="","",IF(AF18<=0.2,"Leve",IF(AF18<=0.4,"Menor",IF(AF18<=0.6,"Moderado",IF(AF18<=0.8,"Mayor","Catastrófico"))))),"") -> Moderado | AF18: =IFERROR(IF(U18="Impacto",(Q16-(+Q16*X18)),IF(U18="Probabilidad",Q16,"")),"") -> 0.6 | AG18: =IFERROR(IF(OR(AND(AC18="Muy Baja",AE18="Leve"),AND(AC18="Muy Baja",AE18="Menor"),AND(AC18="Baja",AE18="Leve")),"Bajo",IF(OR(AND(AC18="Muy baja",AE18="Moderado"),AND(AC18="Baja",AE18="Menor"),AND(AC18="Baja",AE18="Moderado"),AND(AC18="Media",AE18="Leve"),AND(AC18="Media",AE18="Menor"),AND(AC18="Media",AE18="Moderado"),AND(AC18="Alta",AE18="Leve"),AND(AC18="Alta",AE18="Menor")),"Moderado",IF(OR(AND(AC18="Muy Baja",AE18="Mayor"),AND(AC18="Baja",AE18="Mayor"),AND(AC18="Media",AE18="Mayor"),AND(AC18="Alta",AE18="Moderado"),AND(AC18="Alta",AE18="Mayor"),AND(AC18="Muy Alta",AE18="Leve"),AND(AC18="Muy Alta",AE18="Menor"),AND(AC18="Muy Alta",AE18="Moderado"),AND(AC18="Muy Alta",AE18="Mayor")),"Alto",IF(OR(AND(AC18="Muy Baja",AE18="Catastrófico"),AND(AC18="Baja",AE18="Catastrófico"),AND(AC18="Media",AE18="Catastrófico"),AND(AC18="Alta",AE18="Catastrófico"),AND(AC18="Muy Alta",AE18="Catastrófico")),"Extremo","")))),"") -> Moderado | AH18: Reducir (mitigar) | AJ18: Dirección de Asuntos Ambientales | AK18: Enero 2021 - Diciembre 2021 | AL18: Trimestralmente | AN18: En curso | AT18: X | AU18: X
D19: Interventoría | E19: 1 | F19: Reputacional y Económico | G19: Aplicación de investigación o sanción por parte del ente regulador | H19: Debido ha demoras en contratación de obra e interventoría por falencias en la estructuración. | I19: Posibilidad de afectación reputacional y económica por investigaciones y sanciones por parte del ente regulador debido ha demoras en contratación de obra e interventoría por falencias en la estructuración. | J19: Ejecución y Administración de Procesos | K19: 78 | L19: =IF(K19<=0,"",IF(K19<=2,"Muy Baja",IF(K19<=24,"Baja",IF(K19<=500,"Media",IF(K19<=5000,"Alta","Muy Alta"))))) -> Media | M19: =IF(L19="","",IF(L19="Muy Baja",0.2,IF(L19="Baja",0.4,IF(L19="Media",0.6,IF(L19="Alta",0.8,IF(L19="Muy Alta",1,)))))) -> 0.6 | N19: Mayor a 500 SMLMV | O19: =IF(NOT(ISERROR(MATCH(N19,'[2]Tabla Impacto'!$B$221:$B$223,0))),'[2]Tabla Impacto'!$F$223&"Por favor no seleccionar los criterios de impacto(Afectación Económica o presupuestal y Pérdida Reputacional)",N19) -> Mayor a 500 SMLMV | P19: =IF(OR(O19='[2]Tabla Impacto'!$C$11,O19='[2]Tabla Impacto'!$D$11),"Leve",IF(OR(O19='[2]Tabla Impacto'!$C$12,O19='[2]Tabla Impacto'!$D$12),"Menor",IF(OR(O19='[2]Tabla Impacto'!$C$13,O19='[2]Tabla Impacto'!$D$13),"Moderado",IF(OR(O19='[2]Tabla Impacto'!$C$14,O19='[2]Tabla Impacto'!$D$14),"Mayor",IF(OR(O19='[2]Tabla Impacto'!$C$15,O19='[2]Tabla Impacto'!$D$15),"Catastrófico",""))))) -> Catastrófico | Q19: =IF(P19="","",IF(P19="Leve",0.2,IF(P19="Menor",0.4,IF(P19="Moderado",0.6,IF(P19="Mayor",0.8,IF(P19="Catastrófico",1,)))))) -> 1 | R19: =IF(OR(AND(L19="Muy Baja",P19="Leve"),AND(L19="Muy Baja",P19="Menor"),AND(L19="Baja",P19="Leve")),"Bajo",IF(OR(AND(L19="Muy baja",P19="Moderado"),AND(L19="Baja",P19="Menor"),AND(L19="Baja",P19="Moderado"),AND(L19="Media",P19="Leve"),AND(L19="Media",P19="Menor"),AND(L19="Media",P19="Moderado"),AND(L19="Alta",P19="Leve"),AND(L19="Alta",P19="Menor")),"Moderado",IF(OR(AND(L19="Muy Baja",P19="Mayor"),AND(L19="Baja",P19="Mayor"),AND(L19="Media",P19="Mayor"),AND(L19="Alta",P19="Moderado"),AND(L19="Alta",P19="Mayor"),AND(L19="Muy Alta",P19="Leve"),AND(L19="Muy Alta",P19="Menor"),AND(L19="Muy Alta",P19="Moderado"),AND(L19="Muy Alta",P19="Mayor")),"Alto",IF(OR(AND(L19="Muy Baja",P19="Catastrófico"),AND(L19="Baja",P19="Catastrófico"),AND(L19="Media",P19="Catastrófico"),AND(L19="Alta",P19="Catastrófico"),AND(L19="Muy Alta",P19="Catastrófico")),"Extremo","")))) -> Extremo | S19: 1 | T19: El profesional de la Dirección de Interventoría deberá realizar reunión con el área de Estructuración para realizar una validación previa a la contratación del proyecto. | U19: Probabilidad | V19: Preventivo | W19: Manual | X19: =IF(AND(V19="Preventivo",W19="Automático"),"50%",IF(AND(V19="Preventivo",W19="Manual"),"40%",IF(AND(V19="Detectivo",W19="Automático"),"40%",IF(AND(V19="Detectivo",W19="Manual"),"30%",IF(AND(V19="Correctivo",W19="Automático"),"35%",IF(AND(V19="Correctivo",W19="Manual"),"25%","")))))) -> 40% | Y19: Documentado | Z19: Continua | AA19: Con Registro | AB19: =IFERROR(IF(U19="Probabilidad",(M19-(+M19*X19)),IF(U19="Impacto",M19,"")),"") -> 0.36 | AC19: =IFERROR(IF(AB19="","",IF(AB19<=0.2,"Muy Baja",IF(AB19<=0.4,"Baja",IF(AB19<=0.6,"Media",IF(AB19<=0.8,"Alta","Muy Alta"))))),"") -> Baja | AD19: =+AB19 -> 0.36 | AE19: =IFERROR(IF(AF19="","",IF(AF19<=0.2,"Leve",IF(AF19<=0.4,"Menor",IF(AF19<=0.6,"Moderado",IF(AF19<=0.8,"Mayor","Catastrófico"))))),"") -> Catastrófico | AF19: =IFERROR(IF(U19="Impacto",(Q19-(+Q19*X19)),IF(U19="Probabilidad",Q19,"")),"") -> 1 | AG19: =IFERROR(IF(OR(AND(AC19="Muy Baja",AE19="Leve"),AND(AC19="Muy Baja",AE19="Menor"),AND(AC19="Baja",AE19="Leve")),"Bajo",IF(OR(AND(AC19="Muy baja",AE19="Moderado"),AND(AC19="Baja",AE19="Menor"),AND(AC19="Baja",AE19="Moderado"),AND(AC19="Media",AE19="Leve"),AND(AC19="Media",AE19="Menor"),AND(AC19="Media",AE19="Moderado"),AND(AC19="Alta",AE19="Leve"),AND(AC19="Alta",AE19="Menor")),"Moderado",IF(OR(AND(AC19="Muy Baja",AE19="Mayor"),AND(AC19="Baja",AE19="Mayor"),AND(AC19="Media",AE19="Mayor"),AND(AC19="Alta",AE19="Moderado"),AND(AC19="Alta",AE19="Mayor"),AND(AC19="Muy Alta",AE19="Leve"),AND(AC19="Muy Alta",AE19="Menor"),AND(AC19="Muy Alta",AE19="Moderado"),AND(AC19="Muy Alta",AE19="Mayor")),"Alto",IF(OR(AND(AC19="Muy Baja",AE19="Catastrófico"),AND(AC19="Baja",AE19="Catastrófico"),AND(AC19="Media",AE19="Catastrófico"),AND(AC19="Alta",AE19="Catastrófico"),AND(AC19="Muy Alta",AE19="Catastrófico")),"Extremo","")))),"") -> Extremo | AH19: Reducir (mitigar) | AI19: Cronograma de trabajo para proyectos en Ejecución con Falencias | AJ19: Dirección de Interventoría | AK19: Enero 2021 - Diciembre 2021 | AL19: Mensual | AN19: En curso | AT19: X | AU19: X
S20: 2 | T20: se realizan comités contantemente entre las partes (Municipio, Contratista, Interventoría y EPC'), con el fin de dar solución a situaciones que se presenten durante la ejecución de los proyectos como (permisos, temas prediales, entre otros) | U20: Impacto | V20: Correctivo | W20: Manual | X20: =IF(AND(V20="Preventivo",W20="Automático"),"50%",IF(AND(V20="Preventivo",W20="Manual"),"40%",IF(AND(V20="Detectivo",W20="Automático"),"40%",IF(AND(V20="Detectivo",W20="Manual"),"30%",IF(AND(V20="Correctivo",W20="Automático"),"35%",IF(AND(V20="Correctivo",W20="Manual"),"25%","")))))) -> 25% | Y20: Documentado | Z20: Aleatoria | AA20: Con Registro | AB20: =IFERROR(IF(U20="Probabilidad",(AB19-(+AB19*X20)),IF(U20="Impacto",AB19,"")),"") -> 0.36 | AC20: =IFERROR(IF(AB20="","",IF(AB20<=0.2,"Muy Baja",IF(AB20<=0.4,"Baja",IF(AB20<=0.6,"Media",IF(AB20<=0.8,"Alta","Muy Alta"))))),"") -> Baja | AD20: =+AB20 -> 0.36 | AE20: =IFERROR(IF(AF20="","",IF(AF20<=0.2,"Leve",IF(AF20<=0.4,"Menor",IF(AF20<=0.6,"Moderado",IF(AF20<=0.8,"Mayor","Catastrófico"))))),"") -> Mayor | AF20: =IFERROR(IF(U20="Impacto",(Q19-(+Q19*X20)),IF(U20="Probabilidad",Q19,"")),"") -> 0.75 | AG20: =IFERROR(IF(OR(AND(AC20="Muy Baja",AE20="Leve"),AND(AC20="Muy Baja",AE20="Menor"),AND(AC20="Baja",AE20="Leve")),"Bajo",IF(OR(AND(AC20="Muy baja",AE20="Moderado"),AND(AC20="Baja",AE20="Menor"),AND(AC20="Baja",AE20="Moderado"),AND(AC20="Media",AE20="Leve"),AND(AC20="Media",AE20="Menor"),AND(AC20="Media",AE20="Moderado"),AND(AC20="Alta",AE20="Leve"),AND(AC20="Alta",AE20="Menor")),"Moderado",IF(OR(AND(AC20="Muy Baja",AE20="Mayor"),AND(AC20="Baja",AE20="Mayor"),AND(AC20="Media",AE20="Mayor"),AND(AC20="Alta",AE20="Moderado"),AND(AC20="Alta",AE20="Mayor"),AND(AC20="Muy Alta",AE20="Leve"),AND(AC20="Muy Alta",AE20="Menor"),AND(AC20="Muy Alta",AE20="Moderado"),AND(AC20="Muy Alta",AE20="Mayor")),"Alto",IF(OR(AND(AC20="Muy Baja",AE20="Catastrófico"),AND(AC20="Baja",AE20="Catastrófico"),AND(AC20="Media",AE20="Catastrófico"),AND(AC20="Alta",AE20="Catastrófico"),AND(AC20="Muy Alta",AE20="Catastrófico")),"Extremo","")))),"") -> Alto | AH20: Reducir (mitigar) | AJ20: Dirección de Interventoría | AK20: Enero 2021 - Diciembre 2021 | AL20: Quincenal | AN20: En curso | AT20: X | AU20: X
S21: 3 | T21: Los profesionales adelantan seguimiento a los diferentes proyectos que se debe realizar reformulaciones para mayor alcance y operacionalizad. | U21: Impacto | V21: Correctivo | W21: Manual | X21: =IF(AND(V21="Preventivo",W21="Automático"),"50%",IF(AND(V21="Preventivo",W21="Manual"),"40%",IF(AND(V21="Detectivo",W21="Automático"),"40%",IF(AND(V21="Detectivo",W21="Manual"),"30%",IF(AND(V21="Correctivo",W21="Automático"),"35%",IF(AND(V21="Correctivo",W21="Manual"),"25%","")))))) -> 25% | Y21: Documentado | Z21: Aleatoria | AA21: Con Registro | AB21: =IFERROR(IF(U21="Probabilidad",(AB20-(+AB20*X21)),IF(U21="Impacto",AB20,"")),"") -> 0.36 | AC21: =IFERROR(IF(AB21="","",IF(AB21<=0.2,"Muy Baja",IF(AB21<=0.4,"Baja",IF(AB21<=0.6,"Media",IF(AB21<=0.8,"Alta","Muy Alta"))))),"") -> Baja | AD21: =+AB21 -> 0.36 | AE21: =IFERROR(IF(AF21="","",IF(AF21<=0.2,"Leve",IF(AF21<=0.4,"Menor",IF(AF21<=0.6,"Moderado",IF(AF21<=0.8,"Mayor","Catastrófico"))))),"") -> Moderado | AF21: =IFERROR(IF(U21="Impacto",(AF20-(+AF20*X21)),IF(U21="Probabilidad",AF20,"")),"") -> 0.5625 | AG21: =IFERROR(IF(OR(AND(AC21="Muy Baja",AE21="Leve"),AND(AC21="Muy Baja",AE21="Menor"),AND(AC21="Baja",AE21="Leve")),"Bajo",IF(OR(AND(AC21="Muy baja",AE21="Moderado"),AND(AC21="Baja",AE21="Menor"),AND(AC21="Baja",AE21="Moderado"),AND(AC21="Media",AE21="Leve"),AND(AC21="Media",AE21="Menor"),AND(AC21="Media",AE21="Moderado"),AND(AC21="Alta",AE21="Leve"),AND(AC21="Alta",AE21="Menor")),"Moderado",IF(OR(AND(AC21="Muy Baja",AE21="Mayor"),AND(AC21="Baja",AE21="Mayor"),AND(AC21="Media",AE21="Mayor"),AND(AC21="Alta",AE21="Moderado"),AND(AC21="Alta",AE21="Mayor"),AND(AC21="Muy Alta",AE21="Leve"),AND(AC21="Muy Alta",AE21="Menor"),AND(AC21="Muy Alta",AE21="Moderado"),AND(AC21="Muy Alta",AE21="Mayor")),"Alto",IF(OR(AND(AC21="Muy Baja",AE21="Catastrófico"),AND(AC21="Baja",AE21="Catastrófico"),AND(AC21="Media",AE21="Catastrófico"),AND(AC21="Alta",AE21="Catastrófico"),AND(AC21="Muy Alta",AE21="Catastrófico")),"Extremo","")))),"") -> Moderado | AH21: Reducir (mitigar) | AJ21: Dirección de Interventoría | AK21: Enero 2021 - Diciembre 2021 | AL21: Quincenal | AN21: En curso | AT21: X | AU21: X
E22: 2 | F22: Reputacional | G22: Demandas y quejas por parte de los contratistas o proveedores. | H22: Debido ha demoras en el tramite y pago de cuentas por parte del Supervisor y/o Profesional de Apoyo a la Supervisión de EPC. | I22: Posibilidad de afectación reputacional y económica por demandas y quejas por parte de los contratistas o proveedores debido ha demoras en el tramite y pago de cuentas. | J22: Ejecución y Administración de procesos | K22: 350 | L22: =IF(K22<=0,"",IF(K22<=2,"Muy Baja",IF(K22<=24,"Baja",IF(K22<=500,"Media",IF(K22<=5000,"Alta","Muy Alta"))))) -> Media | N22: Mayor a 500 SMLMV | O22: =IF(NOT(ISERROR(MATCH(N22,_xlfn.ANCHORARRAY(I22),0))),M22&"Por favor no seleccionar los criterios de impacto",N22) -> Mayor a 500 SMLMV | P22: =IF(OR(O22='Tabla Impacto'!$C$4,O22='Tabla Impacto'!$D$4),"Leve",IF(OR(O22='Tabla Impacto'!$C$5,O22='Tabla Impacto'!$D$5),"Menor",IF(OR(O22='Tabla Impacto'!$C$6,O22='Tabla Impacto'!$D$6),"Moderado",IF(OR(O22='Tabla Impacto'!$C$7,O22='Tabla Impacto'!$D$7),"Mayor",IF(OR(O22='Tabla Impacto'!$C$8,O22='Tabla Impacto'!$D$8),"Catastrófico",""))))) -> Catastrófico | Q22: =IF(P22="","",IF(P22="Leve",0.2,IF(P22="Menor",0.4,IF(P22="Moderado",0.6,IF(P22="Mayor",0.8,IF(P22="Catastrófico",1,)))))) -> 1 | R22: =IF(OR(AND(L22="Muy Baja",P22="Leve"),AND(L22="Muy Baja",P22="Menor"),AND(L22="Baja",P22="Leve")),"Bajo",IF(OR(AND(L22="Muy baja",P22="Moderado"),AND(L22="Baja",P22="Menor"),AND(L22="Baja",P22="Moderado"),AND(L22="Media",P22="Leve"),AND(L22="Media",P22="Menor"),AND(L22="Media",P22="Moderado"),AND(L22="Alta",P22="Leve"),AND(L22="Alta",P22="Menor")),"Moderado",IF(OR(AND(L22="Muy Baja",P22="Mayor"),AND(L22="Baja",P22="Mayor"),AND(L22="Media",P22="Mayor"),AND(L22="Alta",P22="Moderado"),AND(L22="Alta",P22="Mayor"),AND(L22="Muy Alta",P22="Leve"),AND(L22="Muy Alta",P22="Menor"),AND(L22="Muy Alta",P22="Moderado"),AND(L22="Muy Alta",P22="Mayor")),"Alto",IF(OR(AND(L22="Muy Baja",P22="Catastrófico"),AND(L22="Baja",P22="Catastrófico"),AND(L22="Media",P22="Catastrófico"),AND(L22="Alta",P22="Catastrófico"),AND(L22="Muy Alta",P22="Catastrófico")),"Extremo","")))) -> Extremo
